BEGIN:VCALENDAR
VERSION:2.0
PRODID:-//Mount St. Francis Retreat - ECPv6.15.20//NONSGML v1.0//EN
CALSCALE:GREGORIAN
METHOD:PUBLISH
X-ORIGINAL-URL:https://mountstfrancis.ca
X-WR-CALDESC:Events for Mount St. Francis Retreat
REFRESH-INTERVAL;VALUE=DURATION:PT1H
X-Robots-Tag:noindex
X-PUBLISHED-TTL:PT1H
BEGIN:VTIMEZONE
TZID:America/Edmonton
BEGIN:DAYLIGHT
TZOFFSETFROM:-0700
TZOFFSETTO:-0600
TZNAME:MDT
DTSTART:20240310T090000
END:DAYLIGHT
BEGIN:STANDARD
TZOFFSETFROM:-0600
TZOFFSETTO:-0700
TZNAME:MST
DTSTART:20241103T080000
END:STANDARD
BEGIN:DAYLIGHT
TZOFFSETFROM:-0700
TZOFFSETTO:-0600
TZNAME:MDT
DTSTART:20250309T090000
END:DAYLIGHT
BEGIN:STANDARD
TZOFFSETFROM:-0600
TZOFFSETTO:-0700
TZNAME:MST
DTSTART:20251102T080000
END:STANDARD
BEGIN:DAYLIGHT
TZOFFSETFROM:-0700
TZOFFSETTO:-0600
TZNAME:MDT
DTSTART:20260308T090000
END:DAYLIGHT
BEGIN:STANDARD
TZOFFSETFROM:-0600
TZOFFSETTO:-0700
TZNAME:MST
DTSTART:20261101T080000
END:STANDARD
END:VTIMEZONE
BEGIN:VEVENT
DTSTART;VALUE=DATE:20251024
DTEND;VALUE=DATE:20251027
DTSTAMP:20260422T052316
CREATED:20240514T171233Z
LAST-MODIFIED:20250521T204804Z
UID:5838-1761264000-1761523199@mountstfrancis.ca
SUMMARY:Women’s Retreat\, Friday to Sunday
DESCRIPTION:Christina Kostiuk\n403-851-1012\nckkostiuk56@gmail.com \nJanet Durksen\n403-815-0455\njdurksen@shaw.ca \nWomen’s Retreats
URL:https://mountstfrancis.ca/event/womens-retreat-friday-to-sunday-6/
LOCATION:Mount St. Francis Retreat Centre\, P.O. Box 430\, 41160 Retreat Road\, Cochrane\, Alberta\, T4C 1A6\, Canada
CATEGORIES:Women’s Retreats
END:VEVENT
END:VCALENDAR